BEGIN:VCALENDAR
PRODID:-//eluceo/ical//2.0/EN
VERSION:2.0
CALSCALE:GREGORIAN
BEGIN:VEVENT
UID:event-109-102
DTSTAMP:20260423T100252Z
SUMMARY:Woman Only Sip and Paint :  
DESCRIPTION:As women among each other in a male study environment\, you hav
 e to find other. That is exactly what we are going to do. Register via the
  website and come along to get to know the other women at Sipke. We will d
 o this by painting\, chatting and playing games. Bring your own drink to m
 ake the day even more fun.
DTSTART:20241203T150000Z
DTEND:20241203T180000Z
LOCATION:Terminal Inholland projectgebouw
END:VEVENT
BEGIN:VTIMEZONE
TZID:UTC
BEGIN:STANDARD
DTSTART:20241203T150000
TZNAME:UTC
TZOFFSETTO:+0000
TZOFFSETFROM:+0000
END:STANDARD
END:VTIMEZONE
END:VCALENDAR
